BEGIN:VCALENDAR
VERSION:2.0
PRODID:-//MFAS - ECPv6.7.0//NONSGML v1.0//EN
CALSCALE:GREGORIAN
METHOD:PUBLISH
X-ORIGINAL-URL:https://mfas.rutgers.edu
X-WR-CALDESC:Events for MFAS
REFRESH-INTERVAL;VALUE=DURATION:PT1H
X-Robots-Tag:noindex
X-PUBLISHED-TTL:PT1H
BEGIN:VTIMEZONE
TZID:UTC
BEGIN:STANDARD
TZOFFSETFROM:+0000
TZOFFSETTO:+0000
TZNAME:UTC
DTSTART:20240101T000000
END:STANDARD
END:VTIMEZONE
BEGIN:VEVENT
DTSTART;TZID=UTC:20241204T120000
DTEND;TZID=UTC:20241204T140000
DTSTAMP:20260422T102411
CREATED:20241202T205414Z
LAST-MODIFIED:20241202T205451Z
UID:811-1733313600-1733320800@mfas.rutgers.edu
SUMMARY:Gaza\, Genocide and International Law (featuring Francesca Albanese)
DESCRIPTION:Join the Rutgers Center for Security\, Race and Rights for a presentation by Francesca Albanese\, the UN Special Rapporteur on the Occupied Palestine Territories\, for an international legal and policy analysis of Israel’s military campaign in Gaza since October 8\, 2023. \nIn what numerous international legal scholars conclude constitutes a genocide\, the Israeli military has killed over 54\,000 Palestinians\, injured over 120\,000 Palestinians\, severely restricted entrance of food aid and medicine causing mass starvation\, destroyed every university\, destroyed or damaged over 70% of buildings\, destroyed or damaged 85% of schools\, displaced 90% of the civilian population\, and destroyed or severely damaged every hospital in Gaza. \nRegister for the event at: https://go.rutgers.edu/gazagenocide \nAfter the event\, the recording will be available for viewing on CSRR’s Youtube Channel here.
URL:https://mfas.rutgers.edu/event/gaza-francesca-albanese/
CATEGORIES:Public Events
END:VEVENT
END:VCALENDAR